BEGIN:VCALENDAR
VERSION:2.0
PRODID:-//Netzwerk Demenz Kaiserslautern - ECPv6.0.12//NONSGML v1.0//EN
CALSCALE:GREGORIAN
METHOD:PUBLISH
X-ORIGINAL-URL:https://demenz-kl.de
X-WR-CALDESC:Veranstaltungen für Netzwerk Demenz Kaiserslautern
REFRESH-INTERVAL;VALUE=DURATION:PT1H
X-Robots-Tag:noindex
X-PUBLISHED-TTL:PT1H
BEGIN:VTIMEZONE
TZID:Europe/Berlin
BEGIN:DAYLIGHT
TZOFFSETFROM:+0100
TZOFFSETTO:+0200
TZNAME:CEST
DTSTART:20240331T010000
END:DAYLIGHT
BEGIN:STANDARD
TZOFFSETFROM:+0200
TZOFFSETTO:+0100
TZNAME:CET
DTSTART:20241027T010000
END:STANDARD
END:VTIMEZONE
BEGIN:VEVENT
DTSTART;TZID=Europe/Berlin:20240920T090000
DTEND;TZID=Europe/Berlin:20241102T190000
DTSTAMP:20260420T211607
CREATED:20241010T184443Z
LAST-MODIFIED:20241010T184443Z
UID:16392-1726822800-1730574000@demenz-kl.de
SUMMARY:Aktionstage Demenz 2024
DESCRIPTION:
URL:https://demenz-kl.de/veranstaltung/2-fachtag-demenz-duplicate-1/
CATEGORIES:Veranstaltungen
END:VEVENT
END:VCALENDAR